BEGIN:VCALENDAR
VERSION:2.0
PRODID:-//lincolnikes.com//NONSGML kigkonsult.se iCalcreator 2.30.10//
CALSCALE:GREGORIAN
METHOD:PUBLISH
UID:1a126894-cd9a-48bf-9819-c2f2c53d8ae3
X-WR-CALDESC:*Weather permitting. If we should have some inclement weather\
 , this practice time will be canceled. Feel free to call RSO Winchester to
  verify.
X-WR-RELCALID:a0052c910c0067667f76e01ebf8962e1
X-WR-TIMEZONE:America/Chicago
BEGIN:VTIMEZONE
TZID:America/Chicago
BEGIN:STANDARD
TZNAME:CST
DTSTART:20241103T020000
TZOFFSETFROM:-0500
TZOFFSETTO:-0600
RDATE:20251102T020000
RDATE:20261101T020000
END:STANDARD
BEGIN:DAYLIGHT
TZNAME:CDT
DTSTART:20250309T020000
TZOFFSETFROM:-0600
TZOFFSETTO:-0500
RDATE:20260308T020000
END:DAYLIGHT
END:VTIMEZONE
BEGIN:VEVENT
UID:38f075ae-f957-42fe-bc5d-60cb7feb8e88
DTSTAMP:20260423T175333Z
DESCRIPTION:*Weather permitting. If we should have some inclement weather\,
  this practice time will be canceled. Feel free to call RSO Winchester to 
 verify.
DTSTART;TZID=America/Chicago:20250729T090000
DTEND;TZID=America/Chicago:20250729T130000
LOCATION:Lincoln Ikes Rifle Range 4
SUMMARY:Range 4 Members Practice (Winchester)
END:VEVENT
END:VCALENDAR
