BEGIN:VCALENDAR
VERSION:2.0
PRODID:-//lincolnikes.com//NONSGML kigkonsult.se iCalcreator 2.30.10//
CALSCALE:GREGORIAN
METHOD:PUBLISH
UID:f0dbfee5-2df7-4e3e-bcf0-e85bfc0fc036
X-WR-CALDESC:We have scheduled our 2025 Annual All Members Banquet for Tues
 day\, July 29th\, 2025. This year’s event will be different as it is held 
 on a weekend and we are hoping to bring in more members to enjoy this annu
 al event. We will have the bar available for you to purchase beverages\, w
 ill be hosting a nice dinner for our current members and a guest\, having 
 a speaker and updates to share about our chapter\, and will be electing ou
 r new board members. More information will follow in our newsletters and m
 embers attending can RSVP by emailing us at ikes.lincoln@gmail.com. We loo
 k forward to seeing many of our members there!
X-WR-RELCALID:78ca17364074513e8dde174cbf31a416
X-WR-TIMEZONE:America/Chicago
BEGIN:VTIMEZONE
TZID:America/Chicago
BEGIN:STANDARD
TZNAME:CST
DTSTART:20241103T020000
TZOFFSETFROM:-0500
TZOFFSETTO:-0600
RDATE:20251102T020000
RDATE:20261101T020000
END:STANDARD
BEGIN:DAYLIGHT
TZNAME:CDT
DTSTART:20250309T020000
TZOFFSETFROM:-0600
TZOFFSETTO:-0500
RDATE:20260308T020000
END:DAYLIGHT
END:VTIMEZONE
BEGIN:VEVENT
UID:07dc6d64-e514-4016-ab0a-ab506d587a5a
DTSTAMP:20260423T180136Z
DESCRIPTION:We have scheduled our 2025 Annual All Members Banquet for Tuesd
 ay\, July 29th\, 2025. This year’s event will be different as it is held o
 n a weekend and we are hoping to bring in more members to enjoy this annua
 l event. We will have the bar available for you to purchase beverages\, wi
 ll be hosting a nice dinner for our current members and a guest\, having a
  speaker and updates to share about our chapter\, and will be electing our
  new board members. More information will follow in our newsletters and me
 mbers attending can RSVP by emailing us at ikes.lincoln@gmail.com. We look
  forward to seeing many of our members there!
DTSTART;TZID=America/Chicago:20250729T180000
DTEND;TZID=America/Chicago:20250729T210000
LOCATION:Lincoln Ikes Clubhouse
SUMMARY:All Members Annual Banquet (Clubhouse)
END:VEVENT
END:VCALENDAR
