BEGIN:VCALENDAR
VERSION:2.0
PRODID:-//lincolnikes.com//NONSGML kigkonsult.se iCalcreator 2.30.10//
CALSCALE:GREGORIAN
METHOD:PUBLISH
UID:dd4dac3f-8ee6-49c8-a6a1-b2d52ffa849f
X-WR-CALDESC:
X-WR-RELCALID:ecad077d09a9b3339f55e4d1f99478e0
X-WR-TIMEZONE:America/Chicago
BEGIN:VTIMEZONE
TZID:America/Chicago
BEGIN:STANDARD
TZNAME:CST
DTSTART:20241103T020000
TZOFFSETFROM:-0500
TZOFFSETTO:-0600
RDATE:20251102T020000
RDATE:20261101T020000
END:STANDARD
BEGIN:DAYLIGHT
TZNAME:CDT
DTSTART:20250309T020000
TZOFFSETFROM:-0600
TZOFFSETTO:-0500
RDATE:20260308T020000
END:DAYLIGHT
END:VTIMEZONE
BEGIN:VEVENT
UID:435552e1-8a68-41c5-8166-5fe90d9f7192
DTSTAMP:20260423T180316Z
DESCRIPTION:
DTSTART;TZID=America/Chicago:20250730T190000
DTEND;TZID=America/Chicago:20250730T200000
LOCATION:Lincoln Ikes Clubhouse
SUMMARY:Rifle/Pistol Committee Meeting (Clubhouse)
END:VEVENT
END:VCALENDAR
