BEGIN:VCALENDAR
VERSION:2.0
PRODID:-//lincolnikes.com//NONSGML kigkonsult.se iCalcreator 2.30.10//
CALSCALE:GREGORIAN
METHOD:PUBLISH
UID:83c3e518-ec6b-4fe6-83f7-149fc3bd8104
X-WR-CALDESC:
X-WR-RELCALID:ecaf05b623fccba2046bfab1728f1c00
X-WR-TIMEZONE:America/Chicago
BEGIN:VTIMEZONE
TZID:America/Chicago
BEGIN:STANDARD
TZNAME:CST
DTSTART:20241103T020000
TZOFFSETFROM:-0500
TZOFFSETTO:-0600
RDATE:20251102T020000
RDATE:20261101T020000
END:STANDARD
BEGIN:DAYLIGHT
TZNAME:CDT
DTSTART:20250309T020000
TZOFFSETFROM:-0600
TZOFFSETTO:-0500
RDATE:20260308T020000
END:DAYLIGHT
END:VTIMEZONE
BEGIN:VEVENT
UID:3ce56936-7c3a-4d72-b593-87584bfac54c
DTSTAMP:20260423T175912Z
DESCRIPTION:
DTSTART;TZID=America/Chicago:20250731T180000
DTEND;TZID=America/Chicago:20250731T200000
LOCATION:Lincoln Ikes Rifle Range 4
SUMMARY:Youth & Adult .22 Silhouette (Range 4)
END:VEVENT
END:VCALENDAR
