BEGIN:VCALENDAR
VERSION:2.0
PRODID:-//lincolnikes.com//NONSGML kigkonsult.se iCalcreator 2.30.10//
CALSCALE:GREGORIAN
METHOD:PUBLISH
UID:dc32e6f2-8298-4630-bb96-e379d7b7bec5
X-WR-CALDESC:
X-WR-RELCALID:e89cd0591df347efd94e87822bf1c39e
X-WR-TIMEZONE:America/Chicago
BEGIN:VTIMEZONE
TZID:America/Chicago
BEGIN:STANDARD
TZNAME:CST
DTSTART:20241103T020000
TZOFFSETFROM:-0500
TZOFFSETTO:-0600
RDATE:20251102T020000
RDATE:20261101T020000
END:STANDARD
BEGIN:DAYLIGHT
TZNAME:CDT
DTSTART:20250309T020000
TZOFFSETFROM:-0600
TZOFFSETTO:-0500
RDATE:20260308T020000
END:DAYLIGHT
END:VTIMEZONE
BEGIN:VEVENT
UID:30db5cfb-ca44-420f-a953-4433f92600da
DTSTAMP:20260423T160920Z
DESCRIPTION:
DTSTART;TZID=America/Chicago:20250809T000000
DTEND;TZID=America/Chicago:20250809T235900
LOCATION:
SUMMARY:Izaak Walton's Birthday
END:VEVENT
END:VCALENDAR
