BEGIN:VCALENDAR
VERSION:2.0
PRODID:-//lincolnikes.com//NONSGML kigkonsult.se iCalcreator 2.30.10//
CALSCALE:GREGORIAN
METHOD:PUBLISH
UID:07d6f523-c688-4f67-adc2-894641bc130e
X-WR-CALDESC:
X-WR-RELCALID:9f7302fae5282738a92604fb7764f3a2
X-WR-TIMEZONE:America/Chicago
BEGIN:VTIMEZONE
TZID:America/Chicago
BEGIN:STANDARD
TZNAME:CST
DTSTART:20241103T020000
TZOFFSETFROM:-0500
TZOFFSETTO:-0600
RDATE:20251102T020000
RDATE:20261101T020000
END:STANDARD
BEGIN:DAYLIGHT
TZNAME:CDT
DTSTART:20250309T020000
TZOFFSETFROM:-0600
TZOFFSETTO:-0500
RDATE:20260308T020000
END:DAYLIGHT
END:VTIMEZONE
BEGIN:VEVENT
UID:0abcefce-65ba-4de7-9d09-b501a5152472
DTSTAMP:20260423T161053Z
DESCRIPTION:
DTSTART;TZID=America/Chicago:20250809T090000
DTEND;TZID=America/Chicago:20250809T110000
LOCATION:Lincoln Ikes Rifle Range 4
SUMMARY:.22 Rimfire Sporter Rifle Match shot under CMP Rules (Range 4)
END:VEVENT
END:VCALENDAR
