BEGIN:VCALENDAR
VERSION:2.0
PRODID:-//lincolnikes.com//NONSGML kigkonsult.se iCalcreator 2.30.10//
CALSCALE:GREGORIAN
METHOD:PUBLISH
UID:6b637b80-dcc5-44a2-b65d-7f6ac507a2fb
X-WR-CALDESC:*Weather permitting. If we should have some inclement weather\
 , this practice time will be canceled. Feel free to call RSO Bertram to ve
 rify.
X-WR-RELCALID:21494ed188750f145a8c6108f73a6c87
X-WR-TIMEZONE:America/Chicago
BEGIN:VTIMEZONE
TZID:America/Chicago
BEGIN:STANDARD
TZNAME:CST
DTSTART:20241103T020000
TZOFFSETFROM:-0500
TZOFFSETTO:-0600
RDATE:20251102T020000
RDATE:20261101T020000
END:STANDARD
BEGIN:DAYLIGHT
TZNAME:CDT
DTSTART:20250309T020000
TZOFFSETFROM:-0600
TZOFFSETTO:-0500
RDATE:20260308T020000
END:DAYLIGHT
END:VTIMEZONE
BEGIN:VEVENT
UID:ff43e2bf-7b27-4dfc-bc2f-c3ec687a27cc
DTSTAMP:20260423T160428Z
DESCRIPTION:*Weather permitting. If we should have some inclement weather\,
  this practice time will be canceled. Feel free to call RSO Bertram to ver
 ify.
DTSTART;TZID=America/Chicago:20250813T173000
DTEND;TZID=America/Chicago:20250813T202500
LOCATION:Rifle Range 4
SUMMARY:Range 4 Members Practice (Bertram)
END:VEVENT
END:VCALENDAR
