BEGIN:VCALENDAR
VERSION:2.0
PRODID:-//lincolnikes.com//NONSGML kigkonsult.se iCalcreator 2.30.10//
CALSCALE:GREGORIAN
METHOD:PUBLISH
UID:aef83f96-71b7-470c-a3d9-ed64a28389be
X-WR-CALDESC:
X-WR-RELCALID:bf12547c2cf7117cbda7a4e23c52fd50
X-WR-TIMEZONE:America/Chicago
BEGIN:VTIMEZONE
TZID:America/Chicago
BEGIN:STANDARD
TZNAME:CST
DTSTART:20241103T020000
TZOFFSETFROM:-0500
TZOFFSETTO:-0600
RDATE:20251102T020000
RDATE:20261101T020000
END:STANDARD
BEGIN:DAYLIGHT
TZNAME:CDT
DTSTART:20250309T020000
TZOFFSETFROM:-0600
TZOFFSETTO:-0500
RDATE:20260308T020000
END:DAYLIGHT
END:VTIMEZONE
BEGIN:VEVENT
UID:c8b2547b-f765-482f-8c93-f526009b41d0
DTSTAMP:20260423T160603Z
DESCRIPTION:
DTSTART;TZID=America/Chicago:20250816T090000
DTEND;TZID=America/Chicago:20250816T140000
LOCATION:Lincoln Ikes Rifle Range 4
SUMMARY:Bowling Pin Match (Range 4)
END:VEVENT
END:VCALENDAR
