BEGIN:VCALENDAR
VERSION:2.0
PRODID:-//lincolnikes.com//NONSGML kigkonsult.se iCalcreator 2.30.10//
CALSCALE:GREGORIAN
METHOD:PUBLISH
UID:4104d4b7-9abc-429a-ad32-b222b7cb8051
X-WR-CALDESC:
X-WR-RELCALID:1e0fb9e3b9f0f2c1fba1d54337fb8966
X-WR-TIMEZONE:America/Chicago
BEGIN:VTIMEZONE
TZID:America/Chicago
BEGIN:STANDARD
TZNAME:CST
DTSTART:20241103T020000
TZOFFSETFROM:-0500
TZOFFSETTO:-0600
RDATE:20251102T020000
RDATE:20261101T020000
END:STANDARD
BEGIN:DAYLIGHT
TZNAME:CDT
DTSTART:20250309T020000
TZOFFSETFROM:-0600
TZOFFSETTO:-0500
RDATE:20260308T020000
END:DAYLIGHT
END:VTIMEZONE
BEGIN:VEVENT
UID:13b2c7c8-c80a-41af-b127-6950edbd13a5
DTSTAMP:20260423T160346Z
DESCRIPTION:
DTSTART;TZID=America/Chicago:20250822T050000
DTEND;TZID=America/Chicago:20250822T050001
LOCATION:Lincoln Ikes Rifle Range 4
SUMMARY:NBRSA Range Set Up Day (Range 4)
END:VEVENT
END:VCALENDAR
