BEGIN:VCALENDAR
VERSION:2.0
PRODID:-//lincolnikes.com//NONSGML kigkonsult.se iCalcreator 2.30.10//
CALSCALE:GREGORIAN
METHOD:PUBLISH
UID:311d8801-b1ec-41ac-89f2-6bae7415813e
X-WR-CALDESC:
X-WR-RELCALID:33269884efb785f25a56739052363dcd
X-WR-TIMEZONE:America/Chicago
BEGIN:VTIMEZONE
TZID:America/Chicago
BEGIN:STANDARD
TZNAME:CST
DTSTART:20241103T020000
TZOFFSETFROM:-0500
TZOFFSETTO:-0600
RDATE:20251102T020000
RDATE:20261101T020000
END:STANDARD
BEGIN:DAYLIGHT
TZNAME:CDT
DTSTART:20250309T020000
TZOFFSETFROM:-0600
TZOFFSETTO:-0500
RDATE:20260308T020000
END:DAYLIGHT
END:VTIMEZONE
BEGIN:VEVENT
UID:5c314b38-bd81-4d1a-84f7-429da3684d3e
DTSTAMP:20260423T160720Z
DESCRIPTION:
DTSTART;TZID=America/Chicago:20250823T050000
DTEND;TZID=America/Chicago:20250823T050001
LOCATION:Lincoln Ikes Rifle Range 4
SUMMARY:NBRSA Benchrest Match (Range 4)
END:VEVENT
END:VCALENDAR
