BEGIN:VCALENDAR
VERSION:2.0
PRODID:-//lincolnikes.com//NONSGML kigkonsult.se iCalcreator 2.30.10//
CALSCALE:GREGORIAN
METHOD:PUBLISH
UID:2aae6030-b0e4-4996-85b5-fb1cc593db94
X-WR-CALDESC:We apologize for any inconvenience this may cause our rifle/pi
 stol members.
X-WR-RELCALID:f21328bac220a711d00296c544747756
X-WR-TIMEZONE:America/Chicago
BEGIN:VTIMEZONE
TZID:America/Chicago
BEGIN:STANDARD
TZNAME:CST
DTSTART:20241103T020000
TZOFFSETFROM:-0500
TZOFFSETTO:-0600
RDATE:20251102T020000
RDATE:20261101T020000
END:STANDARD
BEGIN:DAYLIGHT
TZNAME:CDT
DTSTART:20250309T020000
TZOFFSETFROM:-0600
TZOFFSETTO:-0500
RDATE:20260308T020000
END:DAYLIGHT
END:VTIMEZONE
BEGIN:VEVENT
UID:0a3ac7f3-6dce-4ed9-ac7e-21886ed18e9a
DTSTAMP:20260423T160951Z
DESCRIPTION:We apologize for any inconvenience this may cause our rifle/pis
 tol members.
DTSTART;TZID=America/Chicago:20250823T060000
DTEND;TZID=America/Chicago:20250823T180000
LOCATION:Lincoln Ikes Pistol Range 3
SUMMARY:Pistol Range 3 Closed for Maintenance (All day until noted on this 
 website calendar)
END:VEVENT
END:VCALENDAR
