BEGIN:VCALENDAR
VERSION:2.0
PRODID:-//lincolnikes.com//NONSGML kigkonsult.se iCalcreator 2.30.10//
CALSCALE:GREGORIAN
METHOD:PUBLISH
UID:5fbd91f3-0130-41d4-968f-1549b020789b
X-WR-CALDESC:
X-WR-RELCALID:228f0e9d04e1270b933f9f436e01bc2c
X-WR-TIMEZONE:America/Chicago
BEGIN:VTIMEZONE
TZID:America/Chicago
BEGIN:STANDARD
TZNAME:CST
DTSTART:20241103T020000
TZOFFSETFROM:-0500
TZOFFSETTO:-0600
RDATE:20251102T020000
RDATE:20261101T020000
END:STANDARD
BEGIN:DAYLIGHT
TZNAME:CDT
DTSTART:20250309T020000
TZOFFSETFROM:-0600
TZOFFSETTO:-0500
RDATE:20260308T020000
END:DAYLIGHT
END:VTIMEZONE
BEGIN:VEVENT
UID:c09c0a12-4cc3-4be3-a7d3-8776329be822
DTSTAMP:20260423T160623Z
DESCRIPTION:
DTSTART;TZID=America/Chicago:20250824T050000
DTEND;TZID=America/Chicago:20250824T050001
LOCATION:Lincoln Ikes Rifle Range 4
SUMMARY:NBRSA Benchrest Match (Range 4)
END:VEVENT
END:VCALENDAR
