BEGIN:VCALENDAR
VERSION:2.0
PRODID:-//lincolnikes.com//NONSGML kigkonsult.se iCalcreator 2.30.10//
CALSCALE:GREGORIAN
METHOD:PUBLISH
UID:89774820-5d9f-4da8-a345-28204a3f3a0d
X-WR-CALDESC:
X-WR-RELCALID:d9bdc1c5542e43c97f7192e99e31a3d1
X-WR-TIMEZONE:America/Chicago
BEGIN:VTIMEZONE
TZID:America/Chicago
BEGIN:STANDARD
TZNAME:CST
DTSTART:20241103T020000
TZOFFSETFROM:-0500
TZOFFSETTO:-0600
RDATE:20251102T020000
RDATE:20261101T020000
END:STANDARD
BEGIN:DAYLIGHT
TZNAME:CDT
DTSTART:20250309T020000
TZOFFSETFROM:-0600
TZOFFSETTO:-0500
RDATE:20260308T020000
END:DAYLIGHT
END:VTIMEZONE
BEGIN:VEVENT
UID:708130b8-d661-4464-a1e4-e5ed7ce0053d
DTSTAMP:20260423T161357Z
DESCRIPTION:
DTSTART;TZID=America/Chicago:20250827T190000
DTEND;TZID=America/Chicago:20250827T200000
LOCATION:Lincoln Ikes Clubhouse
SUMMARY:Rifle/Pistol Committee Meeting (Clubhouse)
END:VEVENT
END:VCALENDAR
