BEGIN:VCALENDAR
VERSION:2.0
PRODID:-//lincolnikes.com//NONSGML kigkonsult.se iCalcreator 2.30.10//
CALSCALE:GREGORIAN
METHOD:PUBLISH
UID:551ab497-33ad-4a9f-a00a-5c4bacbdd5a1
X-WR-CALDESC:
X-WR-RELCALID:870b20c1a8956689fab9b3fe68c7dda3
X-WR-TIMEZONE:America/Chicago
BEGIN:VTIMEZONE
TZID:America/Chicago
BEGIN:STANDARD
TZNAME:CST
DTSTART:20241103T020000
TZOFFSETFROM:-0500
TZOFFSETTO:-0600
RDATE:20251102T020000
RDATE:20261101T020000
END:STANDARD
BEGIN:DAYLIGHT
TZNAME:CDT
DTSTART:20250309T020000
TZOFFSETFROM:-0600
TZOFFSETTO:-0500
RDATE:20260308T020000
END:DAYLIGHT
END:VTIMEZONE
BEGIN:VEVENT
UID:765353c2-f9af-4345-ae9d-ff07c0c5fef7
DTSTAMP:20260423T160950Z
DESCRIPTION:
DTSTART;TZID=America/Chicago:20250830T083000
DTEND;TZID=America/Chicago:20250830T120000
LOCATION:Lincoln Ikes Rifle/Pistol Range 1
SUMMARY:.22 Challenge (Rifle Range 1) (Registration @ 8:30 am\; Shooting @ 
 9 am)
END:VEVENT
END:VCALENDAR
