BEGIN:VCALENDAR
VERSION:2.0
PRODID:-//lincolnikes.com//NONSGML kigkonsult.se iCalcreator 2.30.10//
CALSCALE:GREGORIAN
METHOD:PUBLISH
UID:be12380e-fdd4-4479-b654-3fa8732d2793
X-WR-CALDESC:We will be working on building and re-surfacing target backer 
 boards at the Range 2 shed. Our goal is to build up a good supply to last 
 us during the winter months. If you are able to volunteer at this work day
 \, please let us know so we can plan accordingly. Thank you!
X-WR-RELCALID:1b7933d80be2c4a944b86004b9bfeda7
X-WR-TIMEZONE:America/Chicago
BEGIN:VTIMEZONE
TZID:America/Chicago
BEGIN:STANDARD
TZNAME:CST
DTSTART:20241103T020000
TZOFFSETFROM:-0500
TZOFFSETTO:-0600
RDATE:20251102T020000
RDATE:20261101T020000
END:STANDARD
BEGIN:DAYLIGHT
TZNAME:CDT
DTSTART:20250309T020000
TZOFFSETFROM:-0600
TZOFFSETTO:-0500
RDATE:20260308T020000
END:DAYLIGHT
END:VTIMEZONE
BEGIN:VEVENT
UID:bdea76fe-f44f-4b73-b32b-483c8fd91a02
DTSTAMP:20260423T142759Z
DESCRIPTION:We will be working on building and re-surfacing target backer b
 oards at the Range 2 shed. Our goal is to build up a good supply to last u
 s during the winter months. If you are able to volunteer at this work day\
 , please let us know so we can plan accordingly. Thank you!
DTSTART;TZID=America/Chicago:20250906T080000
DTEND;TZID=America/Chicago:20250906T120000
LOCATION:Rifle Range 2 Shed (Building/Repairing Backer Boards\, etc.)
SUMMARY:Rifle/Pistol Range Work Day (Range 2 Shed) PLEASE HELP IF ABLE
END:VEVENT
END:VCALENDAR
