BEGIN:VCALENDAR
VERSION:2.0
PRODID:-//lincolnikes.com//NONSGML kigkonsult.se iCalcreator 2.30.10//
CALSCALE:GREGORIAN
METHOD:PUBLISH
UID:160ebc45-eaeb-47d2-9073-41eb74648284
X-WR-CALDESC:For the safety of those seeding our lead field\, the trap rang
 e is closed during this time. Thank you for understanding and your patienc
 e.
X-WR-RELCALID:749438164e4acf42c51266e9d40f3a8d
X-WR-TIMEZONE:America/Chicago
BEGIN:VTIMEZONE
TZID:America/Chicago
BEGIN:STANDARD
TZNAME:CST
DTSTART:20241103T020000
TZOFFSETFROM:-0500
TZOFFSETTO:-0600
RDATE:20251102T020000
RDATE:20261101T020000
END:STANDARD
BEGIN:DAYLIGHT
TZNAME:CDT
DTSTART:20250309T020000
TZOFFSETFROM:-0600
TZOFFSETTO:-0500
RDATE:20260308T020000
END:DAYLIGHT
END:VTIMEZONE
BEGIN:VEVENT
UID:41356373-8902-4bc4-ba15-af4cec3301d7
DTSTAMP:20260423T145153Z
DESCRIPTION:For the safety of those seeding our lead field\, the trap range
  is closed during this time. Thank you for understanding and your patience
 .
DTSTART;TZID=America/Chicago:20250910T140000
DTEND;TZID=America/Chicago:20250910T180000
LOCATION:Trap Range
SUMMARY:Trap Range Closed for Maintenance (Seeding the lead field)
END:VEVENT
END:VCALENDAR
