BEGIN:VCALENDAR
VERSION:2.0
PRODID:-//lincolnikes.com//NONSGML kigkonsult.se iCalcreator 2.30.10//
CALSCALE:GREGORIAN
METHOD:PUBLISH
UID:c2828257-9b77-4ea5-8895-7f4a6e4a1449
X-WR-CALDESC:
X-WR-RELCALID:d1d6072f2ed6837e375c356bb433a2a1
X-WR-TIMEZONE:America/Chicago
BEGIN:VTIMEZONE
TZID:America/Chicago
BEGIN:STANDARD
TZNAME:CST
DTSTART:20241103T020000
TZOFFSETFROM:-0500
TZOFFSETTO:-0600
RDATE:20251102T020000
RDATE:20261101T020000
END:STANDARD
BEGIN:DAYLIGHT
TZNAME:CDT
DTSTART:20250309T020000
TZOFFSETFROM:-0600
TZOFFSETTO:-0500
RDATE:20260308T020000
RDATE:20270314T020000
END:DAYLIGHT
END:VTIMEZONE
BEGIN:VEVENT
UID:0403a106-a5a7-4e41-928e-c62caefa4f35
DTSTAMP:20260423T143752Z
DESCRIPTION:
DTSTART;TZID=America/Chicago:20250913T120000
DTEND;TZID=America/Chicago:20250913T170000
LOCATION:Lincoln Ikes Rifle/Pistol Range 4
SUMMARY:Action Pistol Match shot under CMP Rules (Range 4)
END:VEVENT
END:VCALENDAR
