BEGIN:VCALENDAR
VERSION:2.0
PRODID:-//lincolnikes.com//NONSGML kigkonsult.se iCalcreator 2.30.10//
CALSCALE:GREGORIAN
METHOD:PUBLISH
UID:7450a14b-0346-4606-bbfa-160fe765a6b9
X-WR-CALDESC:*Weather permitting. If we should have some inclement weather\
 , this practice time will be canceled. Feel free to call RSO Bertram to ve
 rify.
X-WR-RELCALID:7cb80a27f171f53a8828fdfc920a70eb
X-WR-TIMEZONE:America/Chicago
BEGIN:VTIMEZONE
TZID:America/Chicago
BEGIN:STANDARD
TZNAME:CST
DTSTART:20241103T020000
TZOFFSETFROM:-0500
TZOFFSETTO:-0600
RDATE:20251102T020000
RDATE:20261101T020000
END:STANDARD
BEGIN:DAYLIGHT
TZNAME:CDT
DTSTART:20250309T020000
TZOFFSETFROM:-0600
TZOFFSETTO:-0500
RDATE:20260308T020000
RDATE:20270314T020000
END:DAYLIGHT
END:VTIMEZONE
BEGIN:VEVENT
UID:57708b63-b080-4d37-9eb8-ba8f002c5285
DTSTAMP:20260423T142907Z
DESCRIPTION:*Weather permitting. If we should have some inclement weather\,
  this practice time will be canceled. Feel free to call RSO Bertram to ver
 ify.
DTSTART;TZID=America/Chicago:20250917T173000
DTEND;TZID=America/Chicago:20250917T192000
LOCATION:Rifle Range 4
SUMMARY:Range 4 Members Practice (Bertram)
END:VEVENT
END:VCALENDAR
