BEGIN:VCALENDAR
VERSION:2.0
PRODID:-//lincolnikes.com//NONSGML kigkonsult.se iCalcreator 2.30.10//
CALSCALE:GREGORIAN
METHOD:PUBLISH
UID:0af8745f-c306-4a83-af26-971a74c5dab5
X-WR-CALDESC:
X-WR-RELCALID:b5434813776ea7b71763ede00a537377
X-WR-TIMEZONE:America/Chicago
BEGIN:VTIMEZONE
TZID:America/Chicago
BEGIN:STANDARD
TZNAME:CST
DTSTART:20241103T020000
TZOFFSETFROM:-0500
TZOFFSETTO:-0600
RDATE:20251102T020000
RDATE:20261101T020000
END:STANDARD
BEGIN:DAYLIGHT
TZNAME:CDT
DTSTART:20250309T020000
TZOFFSETFROM:-0600
TZOFFSETTO:-0500
RDATE:20260308T020000
RDATE:20270314T020000
END:DAYLIGHT
END:VTIMEZONE
BEGIN:VEVENT
UID:0b2ae3bd-0a1d-4d2d-89e8-1e31c17b484d
DTSTAMP:20260423T145239Z
DESCRIPTION:
DTSTART;TZID=America/Chicago:20250918T180000
DTEND;TZID=America/Chicago:20250918T193000
LOCATION:Lincoln Ikes Rifle Range 4
SUMMARY:Youth & Adult .22 Silhouette (Range 4)
END:VEVENT
END:VCALENDAR
