BEGIN:VCALENDAR
VERSION:2.0
PRODID:-//lincolnikes.com//NONSGML kigkonsult.se iCalcreator 2.30.10//
CALSCALE:GREGORIAN
METHOD:PUBLISH
UID:acf0d746-50fa-4224-a035-a8e48b77abc1
X-WR-CALDESC:
X-WR-RELCALID:e8c0726507f9455d9b8aa2b0a91df378
X-WR-TIMEZONE:America/Chicago
BEGIN:VTIMEZONE
TZID:America/Chicago
BEGIN:STANDARD
TZNAME:CST
DTSTART:20241103T020000
TZOFFSETFROM:-0500
TZOFFSETTO:-0600
RDATE:20251102T020000
RDATE:20261101T020000
END:STANDARD
BEGIN:DAYLIGHT
TZNAME:CDT
DTSTART:20250309T020000
TZOFFSETFROM:-0600
TZOFFSETTO:-0500
RDATE:20260308T020000
RDATE:20270314T020000
END:DAYLIGHT
END:VTIMEZONE
BEGIN:VEVENT
UID:2120a4b0-294e-4f67-b974-4a50b2eaaad3
DTSTAMP:20260423T145111Z
DESCRIPTION:
DTSTART;TZID=America/Chicago:20250927T083000
DTEND;TZID=America/Chicago:20250927T120000
LOCATION:Lincoln Ikes Rifle/Pistol Range 1
SUMMARY:.22 Challenge (Rifle Range 1) (Registration @ 8:30 am\; Shooting @ 
 9 am)
END:VEVENT
END:VCALENDAR
