BEGIN:VCALENDAR
VERSION:2.0
PRODID:-//lincolnikes.com//NONSGML kigkonsult.se iCalcreator 2.30.10//
CALSCALE:GREGORIAN
METHOD:PUBLISH
UID:f76d1639-c73f-4766-b5cc-10767aa92a5d
X-WR-CALDESC:
X-WR-RELCALID:ffcdbc5ae4ee6a5e47b1dbddba026919
X-WR-TIMEZONE:America/Chicago
BEGIN:VTIMEZONE
TZID:America/Chicago
BEGIN:STANDARD
TZNAME:CST
DTSTART:20241103T020000
TZOFFSETFROM:-0500
TZOFFSETTO:-0600
RDATE:20251102T020000
RDATE:20261101T020000
END:STANDARD
BEGIN:DAYLIGHT
TZNAME:CDT
DTSTART:20250309T020000
TZOFFSETFROM:-0600
TZOFFSETTO:-0500
RDATE:20260308T020000
RDATE:20270314T020000
END:DAYLIGHT
END:VTIMEZONE
BEGIN:VEVENT
UID:272fbef6-3c33-4a6b-9fda-eb70da58a0da
DTSTAMP:20260423T124949Z
DESCRIPTION:
DTSTART;TZID=America/Chicago:20251004T090000
DTEND;TZID=America/Chicago:20251004T130000
LOCATION:Lincoln Ikes Rifle Range 4
SUMMARY:Club Benchrest 300-Yard (Range 4)
END:VEVENT
END:VCALENDAR
