BEGIN:VCALENDAR
VERSION:2.0
PRODID:-//lincolnikes.com//NONSGML kigkonsult.se iCalcreator 2.30.10//
CALSCALE:GREGORIAN
METHOD:PUBLISH
UID:2a0668c1-e722-47b2-bc6c-fa7f943a07b8
X-WR-CALDESC:(Pond & Walking Trail closed during ATA Shoot)
X-WR-RELCALID:55deeba6bb0ef8951f566fd111638548
X-WR-TIMEZONE:America/Chicago
BEGIN:VTIMEZONE
TZID:America/Chicago
BEGIN:STANDARD
TZNAME:CST
DTSTART:20241103T020000
TZOFFSETFROM:-0500
TZOFFSETTO:-0600
RDATE:20251102T020000
RDATE:20261101T020000
END:STANDARD
BEGIN:DAYLIGHT
TZNAME:CDT
DTSTART:20250309T020000
TZOFFSETFROM:-0600
TZOFFSETTO:-0500
RDATE:20260308T020000
RDATE:20270314T020000
END:DAYLIGHT
END:VTIMEZONE
BEGIN:VEVENT
UID:7151e97f-a699-4795-bc22-eae02c9826f6
DTSTAMP:20260423T124847Z
DESCRIPTION:(Pond & Walking Trail closed during ATA Shoot)
DTSTART;TZID=America/Chicago:20251005T050000
DTEND;TZID=America/Chicago:20251005T050001
LOCATION:Lincoln Ikes Clubhouse & Trap Range
SUMMARY:ATA Trap Shoot (Clubhouse & Trap Range)
END:VEVENT
END:VCALENDAR
