BEGIN:VCALENDAR
VERSION:2.0
PRODID:-//lincolnikes.com//NONSGML kigkonsult.se iCalcreator 2.30.10//
CALSCALE:GREGORIAN
METHOD:PUBLISH
UID:85c03909-ec50-40df-87c5-3e0569b9721e
X-WR-CALDESC:
X-WR-RELCALID:3416cc9afd578b20470f8137894b5697
X-WR-TIMEZONE:America/Chicago
BEGIN:VTIMEZONE
TZID:America/Chicago
BEGIN:STANDARD
TZNAME:CST
DTSTART:20241103T020000
TZOFFSETFROM:-0500
TZOFFSETTO:-0600
RDATE:20251102T020000
RDATE:20261101T020000
END:STANDARD
BEGIN:DAYLIGHT
TZNAME:CDT
DTSTART:20250309T020000
TZOFFSETFROM:-0600
TZOFFSETTO:-0500
RDATE:20260308T020000
RDATE:20270314T020000
END:DAYLIGHT
END:VTIMEZONE
BEGIN:VEVENT
UID:0e4bea5c-8b5b-4c06-a299-abea878c85d9
DTSTAMP:20260423T125944Z
DESCRIPTION:
DTSTART;TZID=America/Chicago:20251007T120000
DTEND;TZID=America/Chicago:20251007T130000
LOCATION:Lincoln Ikes Clubhouse
SUMMARY:Archery Committee Meeting (Clubhouse)
END:VEVENT
END:VCALENDAR
