BEGIN:VCALENDAR
VERSION:2.0
PRODID:-//lincolnikes.com//NONSGML kigkonsult.se iCalcreator 2.30.10//
CALSCALE:GREGORIAN
METHOD:PUBLISH
UID:b90dcd34-dcd8-4486-8a0f-076c4035d339
X-WR-CALDESC:
X-WR-RELCALID:6d48f0c49a5107ae049e54a05244cfce
X-WR-TIMEZONE:America/Chicago
BEGIN:VTIMEZONE
TZID:America/Chicago
BEGIN:STANDARD
TZNAME:CST
DTSTART:20241103T020000
TZOFFSETFROM:-0500
TZOFFSETTO:-0600
RDATE:20251102T020000
RDATE:20261101T020000
END:STANDARD
BEGIN:DAYLIGHT
TZNAME:CDT
DTSTART:20250309T020000
TZOFFSETFROM:-0600
TZOFFSETTO:-0500
RDATE:20260308T020000
RDATE:20270314T020000
END:DAYLIGHT
END:VTIMEZONE
BEGIN:VEVENT
UID:6b21de81-46d0-4c4e-bebd-f95d4d5807a7
DTSTAMP:20260423T125102Z
DESCRIPTION:
DTSTART;TZID=America/Chicago:20251011T050000
DTEND;TZID=America/Chicago:20251011T050001
LOCATION:Lincoln Ikes Rifle/Pistol Range 4
SUMMARY:CANCELED: Action Pistol Match shot under CMP Rules (Range 4)
END:VEVENT
END:VCALENDAR
