BEGIN:VCALENDAR
VERSION:2.0
PRODID:-//lincolnikes.com//NONSGML kigkonsult.se iCalcreator 2.30.10//
CALSCALE:GREGORIAN
METHOD:PUBLISH
UID:680f8e14-06af-4e8a-b4b7-c7b18503a021
X-WR-CALDESC:
X-WR-RELCALID:d99ad171c4852d8d55f39a28536c5dd0
X-WR-TIMEZONE:America/Chicago
BEGIN:VTIMEZONE
TZID:America/Chicago
BEGIN:STANDARD
TZNAME:CST
DTSTART:20241103T020000
TZOFFSETFROM:-0500
TZOFFSETTO:-0600
RDATE:20251102T020000
RDATE:20261101T020000
END:STANDARD
BEGIN:DAYLIGHT
TZNAME:CDT
DTSTART:20250309T020000
TZOFFSETFROM:-0600
TZOFFSETTO:-0500
RDATE:20260308T020000
RDATE:20270314T020000
END:DAYLIGHT
END:VTIMEZONE
BEGIN:VEVENT
UID:c2852800-2699-438c-96aa-f4eccaf478d8
DTSTAMP:20260423T124847Z
DESCRIPTION:
DTSTART;TZID=America/Chicago:20251014T170000
DTEND;TZID=America/Chicago:20251014T190000
LOCATION:Lincoln Ikes Rifle Range 4 & Trap #7
SUMMARY:Rifle Range 4 & Trap #7 Closed for Training Activities
END:VEVENT
END:VCALENDAR
