BEGIN:VCALENDAR
VERSION:2.0
PRODID:-//lincolnikes.com//NONSGML kigkonsult.se iCalcreator 2.30.10//
CALSCALE:GREGORIAN
METHOD:PUBLISH
UID:052359ff-ed1a-4909-8f9a-f8a5651b043d
X-WR-CALDESC:
X-WR-RELCALID:a697b9311acb413587cdc02214e49337
X-WR-TIMEZONE:America/Chicago
BEGIN:VTIMEZONE
TZID:America/Chicago
BEGIN:STANDARD
TZNAME:CST
DTSTART:20241103T020000
TZOFFSETFROM:-0500
TZOFFSETTO:-0600
RDATE:20251102T020000
RDATE:20261101T020000
END:STANDARD
BEGIN:DAYLIGHT
TZNAME:CDT
DTSTART:20250309T020000
TZOFFSETFROM:-0600
TZOFFSETTO:-0500
RDATE:20260308T020000
RDATE:20270314T020000
END:DAYLIGHT
END:VTIMEZONE
BEGIN:VEVENT
UID:e8e47e98-2fcb-47ac-8909-48ca7627d70c
DTSTAMP:20260423T124739Z
DESCRIPTION:
DTSTART;TZID=America/Chicago:20251019T080000
DTEND;TZID=America/Chicago:20251019T170000
LOCATION:Lincoln Ikes Rifle/Pistol Range 4
SUMMARY:IHMSA Handgun Match (Range 4)
END:VEVENT
END:VCALENDAR
