BEGIN:VCALENDAR
VERSION:2.0
PRODID:-//lincolnikes.com//NONSGML kigkonsult.se iCalcreator 2.30.10//
CALSCALE:GREGORIAN
METHOD:PUBLISH
UID:9ca5f125-b2d7-4825-ac2f-4d92b4deadf0
X-WR-CALDESC:
X-WR-RELCALID:524c4e0e514103dc609075f50ffd029c
X-WR-TIMEZONE:America/Chicago
BEGIN:VTIMEZONE
TZID:America/Chicago
BEGIN:STANDARD
TZNAME:CST
DTSTART:20251102T020000
TZOFFSETFROM:-0500
TZOFFSETTO:-0600
RDATE:20261101T020000
END:STANDARD
BEGIN:DAYLIGHT
TZNAME:CDT
DTSTART:20250309T020000
TZOFFSETFROM:-0600
TZOFFSETTO:-0500
RDATE:20260308T020000
RDATE:20270314T020000
END:DAYLIGHT
END:VTIMEZONE
BEGIN:VEVENT
UID:99cf76ac-71d7-4c83-b828-80e827df8ea5
DTSTAMP:20260423T112745Z
DESCRIPTION:
DTSTART;TZID=America/Chicago:20251104T153000
DTEND;TZID=America/Chicago:20251104T173000
LOCATION:Lincoln Ikes Range 1 - 25-Yard Lanes & Range 2
SUMMARY:NGPC Lady's Day Shooting Event (Range 1 - 25-Yard Lanes only and Ra
 nge 2 Closed during Shooting Event)
END:VEVENT
END:VCALENDAR
