BEGIN:VCALENDAR
VERSION:2.0
PRODID:-//lincolnikes.com//NONSGML kigkonsult.se iCalcreator 2.30.10//
CALSCALE:GREGORIAN
METHOD:PUBLISH
UID:97068a75-9ec2-4a18-8c06-53d39904c613
X-WR-CALDESC:
X-WR-RELCALID:3c961180aa4c7875e9b4faa60c4300d7
X-WR-TIMEZONE:America/Chicago
BEGIN:VTIMEZONE
TZID:America/Chicago
BEGIN:STANDARD
TZNAME:CST
DTSTART:20251102T020000
TZOFFSETFROM:-0500
TZOFFSETTO:-0600
RDATE:20261101T020000
END:STANDARD
BEGIN:DAYLIGHT
TZNAME:CDT
DTSTART:20250309T020000
TZOFFSETFROM:-0600
TZOFFSETTO:-0500
RDATE:20260308T020000
RDATE:20270314T020000
END:DAYLIGHT
END:VTIMEZONE
BEGIN:VEVENT
UID:af9b19f5-9a54-4ea6-b328-cdee3b8b3751
DTSTAMP:20260423T095426Z
DESCRIPTION:
DTSTART;TZID=America/Chicago:20251202T120000
DTEND;TZID=America/Chicago:20251202T130000
LOCATION:Lincoln Ikes Clubhouse
SUMMARY:Archery Committee Meeting (Clubhouse)
END:VEVENT
END:VCALENDAR
