BEGIN:VCALENDAR
VERSION:2.0
PRODID:-//lincolnikes.com//NONSGML kigkonsult.se iCalcreator 2.30.10//
CALSCALE:GREGORIAN
METHOD:PUBLISH
UID:1f665a5a-06be-428c-9bec-c403ae9df1b3
X-WR-CALDESC:
X-WR-RELCALID:bd1b2d6518e7972e30aee075b4142aed
X-WR-TIMEZONE:America/Chicago
BEGIN:VTIMEZONE
TZID:America/Chicago
BEGIN:STANDARD
TZNAME:CST
DTSTART:20251102T020000
TZOFFSETFROM:-0500
TZOFFSETTO:-0600
RDATE:20261101T020000
END:STANDARD
BEGIN:DAYLIGHT
TZNAME:CDT
DTSTART:20250309T020000
TZOFFSETFROM:-0600
TZOFFSETTO:-0500
RDATE:20260308T020000
RDATE:20270314T020000
END:DAYLIGHT
END:VTIMEZONE
BEGIN:VEVENT
UID:17156cae-e472-465a-a432-ce6aa51ede97
DTSTAMP:20260423T095939Z
DESCRIPTION:
DTSTART;TZID=America/Chicago:20251206T050000
DTEND;TZID=America/Chicago:20251206T050001
LOCATION:Lincoln Ikes Rifle Range 4
SUMMARY:CANCELED: Club Benchrest 300-Yard (Range 4)
END:VEVENT
END:VCALENDAR
