BEGIN:VCALENDAR
VERSION:2.0
PRODID:-//lincolnikes.com//NONSGML kigkonsult.se iCalcreator 2.30.10//
CALSCALE:GREGORIAN
METHOD:PUBLISH
UID:c8dd1a68-9dce-4e02-86c1-c337da75887c
X-WR-CALDESC:
X-WR-RELCALID:da2babbb3b08d96e873f970b1d424dbf
X-WR-TIMEZONE:America/Chicago
BEGIN:VTIMEZONE
TZID:America/Chicago
BEGIN:STANDARD
TZNAME:CST
DTSTART:20251102T020000
TZOFFSETFROM:-0500
TZOFFSETTO:-0600
RDATE:20261101T020000
END:STANDARD
BEGIN:DAYLIGHT
TZNAME:CDT
DTSTART:20250309T020000
TZOFFSETFROM:-0600
TZOFFSETTO:-0500
RDATE:20260308T020000
RDATE:20270314T020000
END:DAYLIGHT
END:VTIMEZONE
BEGIN:VEVENT
UID:37deb6a5-c18d-46f1-8907-5a7d01416d72
DTSTAMP:20260423T094010Z
DESCRIPTION:
DTSTART;TZID=America/Chicago:20251209T180000
DTEND;TZID=America/Chicago:20251209T211500
LOCATION:Lincoln Ikes Clubhouse
SUMMARY:Board of Directors Meeting (Clubhouse)
END:VEVENT
END:VCALENDAR
