BEGIN:VCALENDAR
VERSION:2.0
PRODID:-//lincolnikes.com//NONSGML kigkonsult.se iCalcreator 2.30.10//
CALSCALE:GREGORIAN
METHOD:PUBLISH
UID:c8131666-a48d-4511-b866-c73ffd49f280
X-WR-CALDESC:
X-WR-RELCALID:25555a2c70f642af2585f4f54a8d2ac9
X-WR-TIMEZONE:America/Chicago
BEGIN:VTIMEZONE
TZID:America/Chicago
BEGIN:STANDARD
TZNAME:CST
DTSTART:20251102T020000
TZOFFSETFROM:-0500
TZOFFSETTO:-0600
RDATE:20261101T020000
END:STANDARD
BEGIN:DAYLIGHT
TZNAME:CDT
DTSTART:20250309T020000
TZOFFSETFROM:-0600
TZOFFSETTO:-0500
RDATE:20260308T020000
RDATE:20270314T020000
END:DAYLIGHT
END:VTIMEZONE
BEGIN:VEVENT
UID:031c0047-aadb-486b-b3ec-3dbb468ef6f9
DTSTAMP:20260423T094930Z
DESCRIPTION:
DTSTART;TZID=America/Chicago:20251221T080000
DTEND;TZID=America/Chicago:20251221T130000
LOCATION:Lincoln Ikes Clubhouse
SUMMARY:IHMSA Indoor Pistol Silhouettes Match (Clubhouse)
END:VEVENT
END:VCALENDAR
