BEGIN:VCALENDAR
VERSION:2.0
PRODID:-//lincolnikes.com//NONSGML kigkonsult.se iCalcreator 2.30.10//
CALSCALE:GREGORIAN
METHOD:PUBLISH
UID:aeacf650-bec5-45de-bb12-607e41be2338
X-WR-CALDESC:*Weather permitting. If we should have some inclement weather\
 , this practice time will be canceled. Feel free to call RSO Bennett or Lo
 nkoski to verify.
X-WR-RELCALID:44a7baf855d2e789f3e168d62e7bb99d
X-WR-TIMEZONE:America/Chicago
BEGIN:VTIMEZONE
TZID:America/Chicago
BEGIN:STANDARD
TZNAME:CST
DTSTART:20251102T020000
TZOFFSETFROM:-0500
TZOFFSETTO:-0600
RDATE:20261101T020000
END:STANDARD
BEGIN:DAYLIGHT
TZNAME:CDT
DTSTART:20250309T020000
TZOFFSETFROM:-0600
TZOFFSETTO:-0500
RDATE:20260308T020000
RDATE:20270314T020000
END:DAYLIGHT
END:VTIMEZONE
BEGIN:VEVENT
UID:de71af61-d949-4905-949a-85559e192380
DTSTAMP:20260423T074314Z
DESCRIPTION:*Weather permitting. If we should have some inclement weather\,
  this practice time will be canceled. Feel free to call RSO Bennett or Lon
 koski to verify.
DTSTART;TZID=America/Chicago:20260112T133000
DTEND;TZID=America/Chicago:20260112T172000
LOCATION:Lincoln Ikes Rifle Range 4
SUMMARY:Range 4 Members Practice (Lonkoski/Bennett)
END:VEVENT
END:VCALENDAR
