BEGIN:VCALENDAR
VERSION:2.0
PRODID:-//lincolnikes.com//NONSGML kigkonsult.se iCalcreator 2.30.10//
CALSCALE:GREGORIAN
METHOD:PUBLISH
UID:eb7a7c71-c2be-4b49-9d8c-3afc8fd0e4a1
X-WR-CALDESC:
X-WR-RELCALID:d23e9f7b36ab8d077d10ed6e46d8c7cf
X-WR-TIMEZONE:America/Chicago
BEGIN:VTIMEZONE
TZID:America/Chicago
BEGIN:STANDARD
TZNAME:CST
DTSTART:20251102T020000
TZOFFSETFROM:-0500
TZOFFSETTO:-0600
RDATE:20261101T020000
END:STANDARD
BEGIN:DAYLIGHT
TZNAME:CDT
DTSTART:20250309T020000
TZOFFSETFROM:-0600
TZOFFSETTO:-0500
RDATE:20260308T020000
RDATE:20270314T020000
END:DAYLIGHT
END:VTIMEZONE
BEGIN:VEVENT
UID:aafa2d3c-e129-4ece-ab45-498762f299fa
DTSTAMP:20260423T074932Z
DESCRIPTION:
DTSTART;TZID=America/Chicago:20260112T063000
DTEND;TZID=America/Chicago:20260112T203000
LOCATION:Lincoln Ikes Clubhouse
SUMMARY:Safety Committee Meeting (Clubhouse)
END:VEVENT
END:VCALENDAR
