BEGIN:VCALENDAR
VERSION:2.0
PRODID:-//lincolnikes.com//NONSGML kigkonsult.se iCalcreator 2.30.10//
CALSCALE:GREGORIAN
METHOD:PUBLISH
UID:31f5aa3a-22f6-4f02-826f-0767536c32b9
X-WR-CALDESC:
X-WR-RELCALID:468588ecceeaf9c06ab1aac12d03e085
X-WR-TIMEZONE:America/Chicago
BEGIN:VTIMEZONE
TZID:America/Chicago
BEGIN:STANDARD
TZNAME:CST
DTSTART:20251102T020000
TZOFFSETFROM:-0500
TZOFFSETTO:-0600
RDATE:20261101T020000
END:STANDARD
BEGIN:DAYLIGHT
TZNAME:CDT
DTSTART:20250309T020000
TZOFFSETFROM:-0600
TZOFFSETTO:-0500
RDATE:20260308T020000
RDATE:20270314T020000
END:DAYLIGHT
END:VTIMEZONE
BEGIN:VEVENT
UID:8ca376a8-246a-430d-a18c-716dabc2d105
DTSTAMP:20260423T060620Z
DESCRIPTION:
DTSTART;TZID=America/Chicago:20260225T190000
DTEND;TZID=America/Chicago:20260225T200000
LOCATION:Lincoln Ikes Clubhouse
SUMMARY:Rifle/Pistol Committee Meeting (Clubhouse)
END:VEVENT
END:VCALENDAR
