BEGIN:VCALENDAR
VERSION:2.0
PRODID:-//lincolnikes.com//NONSGML kigkonsult.se iCalcreator 2.30.10//
CALSCALE:GREGORIAN
METHOD:PUBLISH
UID:09415457-9166-41a7-9cbd-e9b0cd8e7ccc
X-WR-CALDESC:Weather Pending. If questionable\, please contact Match Direct
 or Jeff Shultz.
X-WR-RELCALID:862dd63a1c6fa04668418c42dd8bbfa3
X-WR-TIMEZONE:America/Chicago
BEGIN:VTIMEZONE
TZID:America/Chicago
BEGIN:STANDARD
TZNAME:CST
DTSTART:20251102T020000
TZOFFSETFROM:-0500
TZOFFSETTO:-0600
RDATE:20261101T020000
END:STANDARD
BEGIN:DAYLIGHT
TZNAME:CDT
DTSTART:20250309T020000
TZOFFSETFROM:-0600
TZOFFSETTO:-0500
RDATE:20260308T020000
RDATE:20270314T020000
END:DAYLIGHT
END:VTIMEZONE
BEGIN:VEVENT
UID:7f295a89-9f0f-4ae1-8a53-324d424c91f3
DTSTAMP:20260423T042659Z
DESCRIPTION:Weather Pending. If questionable\, please contact Match Directo
 r Jeff Shultz.
DTSTART;TZID=America/Chicago:20260307T090000
DTEND;TZID=America/Chicago:20260307T130000
LOCATION:Lincoln Ikes Rifle Range 4
SUMMARY:Club Benchrest 300-Yard (Range 4) *PENDING WEATHER
END:VEVENT
END:VCALENDAR
