BEGIN:VCALENDAR
VERSION:2.0
PRODID:-//lincolnikes.com//NONSGML kigkonsult.se iCalcreator 2.30.10//
CALSCALE:GREGORIAN
METHOD:PUBLISH
UID:4978b806-599d-4ebd-94cb-13864eb9e208
X-WR-CALDESC:
X-WR-RELCALID:b0094c00bc752b444cde0f94b99720ee
X-WR-TIMEZONE:America/Chicago
BEGIN:VTIMEZONE
TZID:America/Chicago
BEGIN:STANDARD
TZNAME:CST
DTSTART:20251102T020000
TZOFFSETFROM:-0500
TZOFFSETTO:-0600
RDATE:20261101T020000
END:STANDARD
BEGIN:DAYLIGHT
TZNAME:CDT
DTSTART:20260308T020000
TZOFFSETFROM:-0600
TZOFFSETTO:-0500
RDATE:20270314T020000
END:DAYLIGHT
END:VTIMEZONE
BEGIN:VEVENT
UID:5bbea5bb-c14f-463b-a3bd-ff68a5e68915
DTSTAMP:20260423T043528Z
DESCRIPTION:
DTSTART;TZID=America/Chicago:20260310T191500
DTEND;TZID=America/Chicago:20260310T211500
LOCATION:Lincoln Ikes Clubhouse
SUMMARY:Board of Directors Meeting (Clubhouse)
END:VEVENT
END:VCALENDAR
