BEGIN:VCALENDAR
VERSION:2.0
PRODID:-//lincolnikes.com//NONSGML kigkonsult.se iCalcreator 2.30.10//
CALSCALE:GREGORIAN
METHOD:PUBLISH
UID:1a484882-47fb-46f2-9163-b61e5849c265
X-WR-CALDESC:
X-WR-RELCALID:a76600d58cfeac29aa8be6e67e5a5896
X-WR-TIMEZONE:America/Chicago
BEGIN:VTIMEZONE
TZID:America/Chicago
BEGIN:STANDARD
TZNAME:CST
DTSTART:20251102T020000
TZOFFSETFROM:-0500
TZOFFSETTO:-0600
RDATE:20261101T020000
END:STANDARD
BEGIN:DAYLIGHT
TZNAME:CDT
DTSTART:20260308T020000
TZOFFSETFROM:-0600
TZOFFSETTO:-0500
RDATE:20270314T020000
END:DAYLIGHT
END:VTIMEZONE
BEGIN:VEVENT
UID:14a36c07-1710-4fd9-b5a3-1a691dfa75d4
DTSTAMP:20260423T042826Z
DESCRIPTION:
DTSTART;TZID=America/Chicago:20260315T080000
DTEND;TZID=America/Chicago:20260315T120000
LOCATION:Lincoln Ikes Clubhouse
SUMMARY:IHMSA Indoor Pistol Silhouettes Match (Clubhouse)
END:VEVENT
END:VCALENDAR
