BEGIN:VCALENDAR
VERSION:2.0
PRODID:-//lincolnikes.com//NONSGML kigkonsult.se iCalcreator 2.30.10//
CALSCALE:GREGORIAN
METHOD:PUBLISH
UID:741f94c5-4013-4525-875a-692b66e4d416
X-WR-CALDESC:
X-WR-RELCALID:4abf24ec75f32dc7cf0d39a58fb9c3a1
X-WR-TIMEZONE:America/Chicago
BEGIN:VTIMEZONE
TZID:America/Chicago
BEGIN:STANDARD
TZNAME:CST
DTSTART:20251102T020000
TZOFFSETFROM:-0500
TZOFFSETTO:-0600
RDATE:20261101T020000
END:STANDARD
BEGIN:DAYLIGHT
TZNAME:CDT
DTSTART:20260308T020000
TZOFFSETFROM:-0600
TZOFFSETTO:-0500
RDATE:20270314T020000
END:DAYLIGHT
END:VTIMEZONE
BEGIN:VEVENT
UID:830246f9-d2fe-4c9a-940b-735a929cc5cb
DTSTAMP:20260423T041951Z
DESCRIPTION:
DTSTART;TZID=America/Chicago:20260328T050000
DTEND;TZID=America/Chicago:20260329T050001
LOCATION:Lincoln Ikes Rifle Range 4
SUMMARY:CANCELED - Project Appleseed (Range 4)
END:VEVENT
END:VCALENDAR
