BEGIN:VCALENDAR
VERSION:2.0
PRODID:-//lincolnikes.com//NONSGML kigkonsult.se iCalcreator 2.30.10//
CALSCALE:GREGORIAN
METHOD:PUBLISH
UID:d217b9fb-2404-47a4-8b5a-6dfc853f6b60
X-WR-CALDESC:
X-WR-RELCALID:3cf368aef2c6c77b28f88f1be9444c3e
X-WR-TIMEZONE:America/Chicago
BEGIN:VTIMEZONE
TZID:America/Chicago
BEGIN:STANDARD
TZNAME:CST
DTSTART:20251102T020000
TZOFFSETFROM:-0500
TZOFFSETTO:-0600
RDATE:20261101T020000
END:STANDARD
BEGIN:DAYLIGHT
TZNAME:CDT
DTSTART:20260308T020000
TZOFFSETFROM:-0600
TZOFFSETTO:-0500
RDATE:20270314T020000
END:DAYLIGHT
END:VTIMEZONE
BEGIN:VEVENT
UID:7dfec39f-47f1-4ef7-90e4-9d44984a256d
DTSTAMP:20260423T024313Z
DESCRIPTION:
DTSTART;TZID=America/Chicago:20260418T083000
DTEND;TZID=America/Chicago:20260418T120000
LOCATION:Lincoln Ikes Rifle/Pistol Range 1
SUMMARY:.22 Challenge (Rifle Range 1) (Registration @ 8:30 am\; Shooting @ 
 9 am)
END:VEVENT
END:VCALENDAR
