BEGIN:VCALENDAR
VERSION:2.0
PRODID:-//lincolnikes.com//NONSGML kigkonsult.se iCalcreator 2.30.10//
CALSCALE:GREGORIAN
METHOD:PUBLISH
UID:77a778c5-fda9-4758-949b-2bca136d0a8d
X-WR-CALDESC:
X-WR-RELCALID:1255be0c8a37851c081050a64e2e4eb6
X-WR-TIMEZONE:America/Chicago
BEGIN:VTIMEZONE
TZID:America/Chicago
BEGIN:STANDARD
TZNAME:CST
DTSTART:20251102T020000
TZOFFSETFROM:-0500
TZOFFSETTO:-0600
RDATE:20261101T020000
END:STANDARD
BEGIN:DAYLIGHT
TZNAME:CDT
DTSTART:20260308T020000
TZOFFSETFROM:-0600
TZOFFSETTO:-0500
RDATE:20270314T020000
END:DAYLIGHT
END:VTIMEZONE
BEGIN:VEVENT
UID:0dc8dc8c-c0cd-49de-8e4e-0b4d5e7012bd
DTSTAMP:20260423T023618Z
DESCRIPTION:
DTSTART;TZID=America/Chicago:20260424T050000
DTEND;TZID=America/Chicago:20260424T050001
LOCATION:Lincoln Ikes Rifle Range 4
SUMMARY:NBRSA Range Set Up Day (Range 4)
END:VEVENT
END:VCALENDAR
