BEGIN:VCALENDAR
VERSION:2.0
PRODID:-//lincolnikes.com//NONSGML kigkonsult.se iCalcreator 2.30.10//
CALSCALE:GREGORIAN
METHOD:PUBLISH
UID:e0ae12c8-9879-4ce1-bf7a-a7b96e118965
X-WR-CALDESC:
X-WR-RELCALID:27b8620560df1d632395a94c8cdfa079
X-WR-TIMEZONE:America/Chicago
BEGIN:VTIMEZONE
TZID:America/Chicago
BEGIN:STANDARD
TZNAME:CST
DTSTART:20251102T020000
TZOFFSETFROM:-0500
TZOFFSETTO:-0600
RDATE:20261101T020000
END:STANDARD
BEGIN:DAYLIGHT
TZNAME:CDT
DTSTART:20260308T020000
TZOFFSETFROM:-0600
TZOFFSETTO:-0500
RDATE:20270314T020000
END:DAYLIGHT
END:VTIMEZONE
BEGIN:VEVENT
UID:0761a720-a8a9-48e7-91b8-0e347e1a7a53
DTSTAMP:20260423T023624Z
DESCRIPTION:
DTSTART;TZID=America/Chicago:20260425T050000
DTEND;TZID=America/Chicago:20260425T050001
LOCATION:Lincoln Ikes Rifle Range 4
SUMMARY:NBRSA Benchrest Match (Range 4)
END:VEVENT
END:VCALENDAR
