BEGIN:VCALENDAR
VERSION:2.0
PRODID:-//lincolnikes.com//NONSGML kigkonsult.se iCalcreator 2.30.10//
CALSCALE:GREGORIAN
METHOD:PUBLISH
UID:4ff607af-f6d5-4d4b-a590-0f5445c69783
X-WR-CALDESC:
X-WR-RELCALID:62b9aaa6cf62dcc397bb4ae6fec98c13
X-WR-TIMEZONE:America/Chicago
BEGIN:VTIMEZONE
TZID:America/Chicago
BEGIN:STANDARD
TZNAME:CST
DTSTART:20251102T020000
TZOFFSETFROM:-0500
TZOFFSETTO:-0600
RDATE:20261101T020000
END:STANDARD
BEGIN:DAYLIGHT
TZNAME:CDT
DTSTART:20260308T020000
TZOFFSETFROM:-0600
TZOFFSETTO:-0500
RDATE:20270314T020000
END:DAYLIGHT
END:VTIMEZONE
BEGIN:VEVENT
UID:758bd87e-23c9-466d-9eb7-b552e3ce6cab
DTSTAMP:20260423T023623Z
DESCRIPTION:
DTSTART;TZID=America/Chicago:20260426T050000
DTEND;TZID=America/Chicago:20260426T050001
LOCATION:Lincoln Ikes Rifle Range 4
SUMMARY:NBRSA Benchrest Match (Range 4)
END:VEVENT
END:VCALENDAR
