BEGIN:VCALENDAR
VERSION:2.0
PRODID:-//lincolnikes.com//NONSGML kigkonsult.se iCalcreator 2.30.10//
CALSCALE:GREGORIAN
METHOD:PUBLISH
UID:07fb833f-67c1-47ee-8f31-fddb0ac8b546
X-WR-CALDESC:
X-WR-RELCALID:6a0e2977c60f63ecba889ae4d73511da
X-WR-TIMEZONE:America/Chicago
BEGIN:VTIMEZONE
TZID:America/Chicago
BEGIN:STANDARD
TZNAME:CST
DTSTART:20251102T020000
TZOFFSETFROM:-0500
TZOFFSETTO:-0600
RDATE:20261101T020000
RDATE:20271107T020000
END:STANDARD
BEGIN:DAYLIGHT
TZNAME:CDT
DTSTART:20260308T020000
TZOFFSETFROM:-0600
TZOFFSETTO:-0500
RDATE:20270314T020000
END:DAYLIGHT
END:VTIMEZONE
BEGIN:VEVENT
UID:973ab01a-3517-438d-9de1-2b925f0541e5
DTSTAMP:20260423T042531Z
DESCRIPTION:
DTSTART;TZID=America/Chicago:20260509T090000
DTEND;TZID=America/Chicago:20260509T110000
LOCATION:Lincoln Ikes Rifle Range 4
SUMMARY:.22 Rimfire Sporter Rifle Match shot under CMP Rules (Range 4)
END:VEVENT
END:VCALENDAR
