BEGIN:VCALENDAR
VERSION:2.0
PRODID:-//lincolnikes.com//NONSGML kigkonsult.se iCalcreator 2.30.10//
CALSCALE:GREGORIAN
METHOD:PUBLISH
UID:01ba17d8-d0e7-4043-a9bb-f1502c6c45f4
X-WR-CALDESC:(Pond & Walking Trail closed during ATA Shoot)
X-WR-RELCALID:f3e62ce754a21242e592b817f2b4ca11
X-WR-TIMEZONE:America/Chicago
BEGIN:VTIMEZONE
TZID:America/Chicago
BEGIN:STANDARD
TZNAME:CST
DTSTART:20251102T020000
TZOFFSETFROM:-0500
TZOFFSETTO:-0600
RDATE:20261101T020000
RDATE:20271107T020000
END:STANDARD
BEGIN:DAYLIGHT
TZNAME:CDT
DTSTART:20260308T020000
TZOFFSETFROM:-0600
TZOFFSETTO:-0500
RDATE:20270314T020000
END:DAYLIGHT
END:VTIMEZONE
BEGIN:VEVENT
UID:9bb69eaf-5820-4a22-9545-6347e119d126
DTSTAMP:20260423T060033Z
DESCRIPTION:(Pond & Walking Trail closed during ATA Shoot)
DTSTART;TZID=America/Chicago:20260613T050000
DTEND;TZID=America/Chicago:20260613T050001
LOCATION:Lincoln Ikes Clubhouse & Trap Range
SUMMARY:ATA Trap Shoot (Clubhouse & Trap Range)
END:VEVENT
END:VCALENDAR
