BEGIN:VCALENDAR
VERSION:2.0
PRODID:-//lincolnikes.com//NONSGML kigkonsult.se iCalcreator 2.30.10//
CALSCALE:GREGORIAN
METHOD:PUBLISH
UID:0e84d5ae-a317-44f8-b7e1-e6a83037f61c
X-WR-CALDESC:
X-WR-RELCALID:f0b0feabe6d02c0bc27a0a08cb70f32a
X-WR-TIMEZONE:America/Chicago
BEGIN:VTIMEZONE
TZID:America/Chicago
BEGIN:STANDARD
TZNAME:CST
DTSTART:20251102T020000
TZOFFSETFROM:-0500
TZOFFSETTO:-0600
RDATE:20261101T020000
RDATE:20271107T020000
END:STANDARD
BEGIN:DAYLIGHT
TZNAME:CDT
DTSTART:20260308T020000
TZOFFSETFROM:-0600
TZOFFSETTO:-0500
RDATE:20270314T020000
END:DAYLIGHT
END:VTIMEZONE
BEGIN:VEVENT
UID:568619dd-5a47-476c-953f-fec042ee8226
DTSTAMP:20260423T060040Z
DESCRIPTION:
DTSTART;TZID=America/Chicago:20260618T180000
DTEND;TZID=America/Chicago:20260618T200000
LOCATION:Lincoln Ikes Rifle Range 4
SUMMARY:.22 Silhouettes (Range 4)
END:VEVENT
END:VCALENDAR
