BEGIN:VCALENDAR
VERSION:2.0
PRODID:-//lincolnikes.com//NONSGML kigkonsult.se iCalcreator 2.30.10//
CALSCALE:GREGORIAN
METHOD:PUBLISH
UID:f15e1977-f9b5-467a-b9ff-9914e40cc2d8
X-WR-CALDESC:*Weather permitting. If we should have some inclement weather\
 , this practice time will be canceled. Feel free to call RSO Hanson to ver
 ify.
X-WR-RELCALID:b8fe5c198d69ddad897e5d8a18729b43
X-WR-TIMEZONE:America/Chicago
BEGIN:VTIMEZONE
TZID:America/Chicago
BEGIN:STANDARD
TZNAME:CST
DTSTART:20251102T020000
TZOFFSETFROM:-0500
TZOFFSETTO:-0600
RDATE:20261101T020000
RDATE:20271107T020000
END:STANDARD
BEGIN:DAYLIGHT
TZNAME:CDT
DTSTART:20260308T020000
TZOFFSETFROM:-0600
TZOFFSETTO:-0500
RDATE:20270314T020000
END:DAYLIGHT
END:VTIMEZONE
BEGIN:VEVENT
UID:3eca3fc3-e872-4a52-8225-176b181e09cb
DTSTAMP:20260423T074431Z
DESCRIPTION:*Weather permitting. If we should have some inclement weather\,
  this practice time will be canceled. Feel free to call RSO Hanson to veri
 fy.
DTSTART;TZID=America/Chicago:20260701T100000
DTEND;TZID=America/Chicago:20260701T140000
LOCATION:Lincoln Ikes Rifle Range 4
SUMMARY:Range 4 300-Yard Members Practice (Hanson)
END:VEVENT
END:VCALENDAR
