BEGIN:VCALENDAR
VERSION:2.0
PRODID:-//lincolnikes.com//NONSGML kigkonsult.se iCalcreator 2.30.10//
CALSCALE:GREGORIAN
METHOD:PUBLISH
UID:30cd49ec-42af-4e53-be03-9692d13c1c84
X-WR-CALDESC:
X-WR-RELCALID:7a7b749eaf0e388752ae0cac0e9214f7
X-WR-TIMEZONE:America/Chicago
BEGIN:VTIMEZONE
TZID:America/Chicago
BEGIN:STANDARD
TZNAME:CST
DTSTART:20251102T020000
TZOFFSETFROM:-0500
TZOFFSETTO:-0600
RDATE:20261101T020000
RDATE:20271107T020000
END:STANDARD
BEGIN:DAYLIGHT
TZNAME:CDT
DTSTART:20260308T020000
TZOFFSETFROM:-0600
TZOFFSETTO:-0500
RDATE:20270314T020000
END:DAYLIGHT
END:VTIMEZONE
BEGIN:VEVENT
UID:5b148450-6923-4a2f-bc88-161bd02d4bfc
DTSTAMP:20260423T074435Z
DESCRIPTION:
DTSTART;TZID=America/Chicago:20260702T180000
DTEND;TZID=America/Chicago:20260702T200000
LOCATION:Lincoln Ikes Rifle Range 4
SUMMARY:.22 Silhouettes (Range 4)
END:VEVENT
END:VCALENDAR
