BEGIN:VCALENDAR
VERSION:2.0
PRODID:-//lincolnikes.com//NONSGML kigkonsult.se iCalcreator 2.30.10//
CALSCALE:GREGORIAN
METHOD:PUBLISH
UID:7b77d6ea-11d0-4b40-95a4-eaa22ef22acd
X-WR-CALDESC:(Pond & Walking Trail closed during ATA Shoot)
X-WR-RELCALID:60a5eef8cb0398753e606e0a50111d14
X-WR-TIMEZONE:America/Chicago
BEGIN:VTIMEZONE
TZID:America/Chicago
BEGIN:STANDARD
TZNAME:CST
DTSTART:20251102T020000
TZOFFSETFROM:-0500
TZOFFSETTO:-0600
RDATE:20261101T020000
RDATE:20271107T020000
END:STANDARD
BEGIN:DAYLIGHT
TZNAME:CDT
DTSTART:20260308T020000
TZOFFSETFROM:-0600
TZOFFSETTO:-0500
RDATE:20270314T020000
END:DAYLIGHT
END:VTIMEZONE
BEGIN:VEVENT
UID:12b31463-c24c-47b9-9be3-5bc5dbe599a2
DTSTAMP:20260423T074533Z
DESCRIPTION:(Pond & Walking Trail closed during ATA Shoot)
DTSTART;TZID=America/Chicago:20260705T050000
DTEND;TZID=America/Chicago:20260705T050001
LOCATION:Lincoln Ikes Clubhouse & Trap Range
SUMMARY:ATA Trap Shoot (Clubhouse & Trap Range)
END:VEVENT
END:VCALENDAR
