BEGIN:VCALENDAR
VERSION:2.0
PRODID:-//lincolnikes.com//NONSGML kigkonsult.se iCalcreator 2.30.10//
CALSCALE:GREGORIAN
METHOD:PUBLISH
UID:5799d03a-ca43-43da-a0dd-7ccb9d587092
X-WR-CALDESC:
X-WR-RELCALID:5523206ca8abc05562c8a5730d3ad428
X-WR-TIMEZONE:America/Chicago
BEGIN:VTIMEZONE
TZID:America/Chicago
BEGIN:STANDARD
TZNAME:CST
DTSTART:20251102T020000
TZOFFSETFROM:-0500
TZOFFSETTO:-0600
RDATE:20261101T020000
RDATE:20271107T020000
END:STANDARD
BEGIN:DAYLIGHT
TZNAME:CDT
DTSTART:20260308T020000
TZOFFSETFROM:-0600
TZOFFSETTO:-0500
RDATE:20270314T020000
END:DAYLIGHT
END:VTIMEZONE
BEGIN:VEVENT
UID:ed7ddc6e-898d-4d71-81ef-4ad8f3e6e3b1
DTSTAMP:20260423T074803Z
DESCRIPTION:
DTSTART;TZID=America/Chicago:20260711T090000
DTEND;TZID=America/Chicago:20260711T110000
LOCATION:Lincoln Ikes Rifle Range 4
SUMMARY:.22 Rimfire Sporter Rifle Match shot under CMP Rules (Range 4)
END:VEVENT
END:VCALENDAR
