BEGIN:VCALENDAR
VERSION:2.0
PRODID:-//lincolnikes.com//NONSGML kigkonsult.se iCalcreator 2.30.10//
CALSCALE:GREGORIAN
METHOD:PUBLISH
UID:831939e5-cf90-408b-a5c1-2024ca500219
X-WR-CALDESC:*Weather permitting. If we should have some inclement weather\
 , this practice time will be canceled. Feel free to call RSO Dewey to veri
 fy.
X-WR-RELCALID:f4b8295d1bd098e87f41b8dff899cb98
X-WR-TIMEZONE:America/Chicago
BEGIN:VTIMEZONE
TZID:America/Chicago
BEGIN:STANDARD
TZNAME:CST
DTSTART:20251102T020000
TZOFFSETFROM:-0500
TZOFFSETTO:-0600
RDATE:20261101T020000
RDATE:20271107T020000
END:STANDARD
BEGIN:DAYLIGHT
TZNAME:CDT
DTSTART:20260308T020000
TZOFFSETFROM:-0600
TZOFFSETTO:-0500
RDATE:20270314T020000
END:DAYLIGHT
END:VTIMEZONE
BEGIN:VEVENT
UID:d637f95c-38b5-494d-b23e-761b00fe2b3e
DTSTAMP:20260423T074237Z
DESCRIPTION:*Weather permitting. If we should have some inclement weather\,
  this practice time will be canceled. Feel free to call RSO Dewey to verif
 y.
DTSTART;TZID=America/Chicago:20260714T090000
DTEND;TZID=America/Chicago:20260714T130000
LOCATION:Lincoln Ikes Rifle Range 4
SUMMARY:Range 4 Members Practice (Dewey)
END:VEVENT
END:VCALENDAR
